BEGIN:VCALENDAR
VERSION:2.0
PRODID:-//hacksw/handcal//NONSGML v1.0//EN
BEGIN:VEVENT
DTSTART:20160412T120500
DTEND:20160421T123000
LOCATION:Unistra
ORGANIZER;CN=Service Relations Alumni UNISTRA:MAILTO:contact@alumni.unistra.fr
SUMMARY:paiement coaching
DESCRIPTION:réservé aux personnes validées lors de l'entretien diagnostic.\ncordialement\n
URL:https://alumni.unistra.fr/fr/event/paiement-coaching/2016/04/12/505
BEGIN:VALARM
TRIGGER:-P0DT1H0M0S
ACTION:DISPLAY
END:VALARM
END:VEVENT
END:VCALENDAR