BEGIN:VCALENDAR
VERSION:2.0
PRODID:-//hacksw/handcal//NONSGML v1.0//EN
BEGIN:VEVENT
DTSTART:20250306T160000
DTEND:20250306T180000
LOCATION:Faculté de chimie Amphithéâtre Guy Ourisson \n4, Rue Blaise Pascal \n67081 STRASBOURG
ORGANIZER;CN=CAROLE VELTZ - Faculté des Sciences du Sport:MAILTO:cveltz@unistra.fr
SUMMARY:Conférence Vincent COLLET
DESCRIPTION:Vincent Collet, sélectionneur de l'équipe de France de basket-ball, donne une conférence en Faculté des sciences du sport sur la préparation des jeux olympiques. Au programme : management,...
URL:https://alumni.unistra.fr/fr/group/faculte-des-sciences-du-sport/129/calendar/conference-vincent-collet/2025/03/06/2631
BEGIN:VALARM
TRIGGER:-P0DT1H0M0S
ACTION:DISPLAY
END:VALARM
END:VEVENT
END:VCALENDAR