BEGIN:VCALENDAR
VERSION:2.0
PRODID:-//hacksw/handcal//NONSGML v1.0//EN
BEGIN:VEVENT
DTSTART:20250513T121500
DTEND:20250513T134500
LOCATION:Salle In Quarto - Studium \n2, Rue Blaise Pascal \n67000 STRASBOURG
ORGANIZER;CN=Service Relations Alumni UNISTRA:MAILTO:contact@alumni.unistra.fr
SUMMARY:la RQTH décryptée : Quels intérêts et avantages pour les bénéficiaires et les équipes ?
DESCRIPTION: PRESENTATIONQu'est-ce que la RQTH (reconnaissance de la Qualité de Travailleur Handicapé) ? Qui peut en faire la demande ?Quelles sont les avantages ?Quelles sont les démarches et à qui dois-je...
URL:https://alumni.unistra.fr/fr/event/la-rqth-decryptee-quels-interets-et-avantages-pour-les-beneficiaires-et-les-equipes/2025/05/13/2575
BEGIN:VALARM
TRIGGER:-P0DT1H0M0S
ACTION:DISPLAY
END:VALARM
END:VEVENT
END:VCALENDAR