BEGIN:VCALENDAR
VERSION:2.0
PRODID:-//hacksw/handcal//NONSGML v1.0//EN
BEGIN:VEVENT
DTSTART:20160119T180000
DTEND:20160119T220000
LOCATION:Pôle Européen de Gestion et d'Economie \n61, Avenue de la Forêt Noire \n67000 STRASBOURG
ORGANIZER;CN=Service Relations Alumni UNISTRA:MAILTO:contact@alumni.unistra.fr
SUMMARY:2ème Soirée Parrainage
DESCRIPTION:Cette soirée parrainage a pour vocation d’offrir une alternative à notre nouvelle application de mise en relation via notre site internet. Le but est de rencontrer directement des parrains afin de...
URL:https://alumni.unistra.fr/fr/event/2eme-soiree-parrainage/2016/01/19/191
BEGIN:VALARM
TRIGGER:-P0DT1H0M0S
ACTION:DISPLAY
END:VALARM
END:VEVENT
END:VCALENDAR