BEGIN:VCALENDAR
VERSION:2.0
PRODID:-//hacksw/handcal//NONSGML v1.0//EN
BEGIN:VEVENT
DTSTART:20211021T100000
DTEND:20211022T180000
LOCATION:Campus Esplanade
ORGANIZER;CN=Service Relations Alumni UNISTRA:MAILTO:contact@alumni.unistra.fr
SUMMARY:Forum stage & emploi
DESCRIPTION:\nLe Forum stage-emploi AlsaceTech & Université de Strasbourg s'affirme, depuis 2018, comme la plus grande manifestation du genre dans le Grand Est. Pour cette édition 2021, près de 84 entreprises...
URL:https://alumni.unistra.fr/fr/event/forum-stage-emploi/2021/10/21/1767
BEGIN:VALARM
TRIGGER:-P0DT1H0M0S
ACTION:DISPLAY
END:VALARM
END:VEVENT
END:VCALENDAR