BEGIN:VCALENDAR
VERSION:2.0
PRODID:-//hacksw/handcal//NONSGML v1.0//EN
BEGIN:VEVENT
DTSTART:20210930T090000
DTEND:20210930T120000
LOCATION:
ORGANIZER;CN=Service Relations Alumni UNISTRA:MAILTO:contact@alumni.unistra.fr
SUMMARY:3ème Break RH Alumni
DESCRIPTION:Événement destiné exclusivement aux professionnels des ressources humaines et responsables de formations de l'Université de Strasbourg, merci de votre compréhension !\nCher·e·s partenaires, cher·e·s...
URL:https://alumni.unistra.fr/fr/event/3eme-break-rh-alumni/2021/09/30/1748
BEGIN:VALARM
TRIGGER:-P0DT1H0M0S
ACTION:DISPLAY
END:VALARM
END:VEVENT
END:VCALENDAR