BEGIN:VCALENDAR
VERSION:2.0
PRODID:-//hacksw/handcal//NONSGML v1.0//EN
BEGIN:VEVENT
DTSTART:20140326T100000
DTEND:20140327T190000
LOCATION:MAMCS
ORGANIZER;CN=Service Relations Alumni UNISTRA:MAILTO:contact@alumni.unistra.fr
SUMMARY:Résidence David Diao
DESCRIPTION:\nDu 17 au 30 mars 2014, Strasbourg accueille David Diao. Né en Chine en 1943, David Diao est un artiste qui travaille à New York depuis la fin des années 60. Artiste d’envergure internationale, il...
URL:https://alumni.unistra.fr/fr/event/residence-david-diao/2014/03/26/127
BEGIN:VALARM
TRIGGER:-P0DT1H0M0S
ACTION:DISPLAY
END:VALARM
END:VEVENT
END:VCALENDAR