BEGIN:VCALENDAR
VERSION:2.0
PRODID:-//hacksw/handcal//NONSGML v1.0//EN
BEGIN:VEVENT
DTSTART:20150410T090000
DTEND:20150920T190000
LOCATION:BNU
ORGANIZER;CN=Service Relations Alumni UNISTRA:MAILTO:contact@alumni.unistra.fr
SUMMARY:Exposition à la BNU
DESCRIPTION:Salle d'exposition, niveau 1\nEntrée libre\ndu lundi au samedi de 10h à 19h,\nle dimanche 13 septembre de 14h à 19h,\nle dimanche 20 septembre, ouverture exceptionnelle de 10h à 19h dans le cadre des ...
URL:https://alumni.unistra.fr/fr/event/exposition-a-la-bnu/2015/04/10/111
BEGIN:VALARM
TRIGGER:-P0DT1H0M0S
ACTION:DISPLAY
END:VALARM
END:VEVENT
END:VCALENDAR