BEGIN:VCALENDAR
VERSION:2.0
PRODID:-//hacksw/handcal//NONSGML v1.0//EN
BEGIN:VEVENT
DTSTART:20180109T140000
DTEND:20180109T173000
LOCATION:Institut Le bel - salle 034H \n4, Rue Blaise Pascal \n67000 STRASBOURG
ORGANIZER;CN=LAETITIA SCIACCA:MAILTO:sciacca@unistra.fr
SUMMARY:Construire sa candidature et se démarquer
DESCRIPTION:Les mardis de l'emploi ont pour but est de vous proposer une rencontre collective avec un consultant / coach, tous les 1ers mardis du mois.PROGRAMME\n CV :\nFaire refléter sa personnalité à travers...
URL:https://alumni.unistra.fr/fr/event/construire-sa-candidature-et-se-demarquer/2018/01/09/1007
BEGIN:VALARM
TRIGGER:-P0DT1H0M0S
ACTION:DISPLAY
END:VALARM
END:VEVENT
END:VCALENDAR